BEGIN:VCALENDAR
PRODID:-//eluceo/ical//2.0/EN
VERSION:2.0
CALSCALE:GREGORIAN
BEGIN:VEVENT
UID:d7c984a0d850cf24c152050d047d728b
DTSTAMP:20260422T124532Z
SUMMARY:Breakfast at Restaurant Babel (Hyatt Regency Circle)
DESCRIPTION:Web stranica: https://www.flughafen-zuerich.ch/en/passengers/sh
 opping-and-enjoy/eat-and-drink/all-food-and-drink/restaurant-babel-hyatt-r
 egency\nGovornik(ci): Breakfast cost 28 CHF / person
URL:https://rczci.ch/bs/agenda/show/185858
DTSTART;TZID=Europe/Zurich:20250701T070000
DTEND;TZID=Europe/Zurich:20250701T080000
LOCATION:Babel Restaurant\, Hyatt\, The Circle\, Zurich Airport\, 8058 Zuri
 ch
CATEGORIES:Rotary
END:VEVENT
BEGIN:VTIMEZONE
TZID:Europe/Zurich
BEGIN:DAYLIGHT
DTSTART:20250701T070000
TZNAME:CEST
TZOFFSETTO:+0200
TZOFFSETFROM:+0200
END:DAYLIGHT
END:VTIMEZONE
END:VCALENDAR
