BEGIN:VCALENDAR
PRODID:-//eluceo/ical//2.0/EN
VERSION:2.0
CALSCALE:GREGORIAN
BEGIN:VEVENT
UID:d8c20b663d8c755d1d445d6d2097a221
DTSTAMP:20260419T161507Z
SUMMARY:RCZI @ Rotary International Zurich Office
DESCRIPTION:Web stranica: http://www.rotary.org\nGovornik(ci): Marco Nicosi
 a
URL:https://rczci.ch/bs/agenda/show/210934
DTSTART;TZID=Europe/Zurich:20260428T183000
DTEND;TZID=Europe/Zurich:20260428T213000
LOCATION:Rotary International\, Witikonerstrasse 15\, 8032 Zurich
CATEGORIES:Rotary
END:VEVENT
BEGIN:VTIMEZONE
TZID:Europe/Zurich
BEGIN:DAYLIGHT
DTSTART:20260428T183000
TZNAME:CEST
TZOFFSETTO:+0200
TZOFFSETFROM:+0200
END:DAYLIGHT
END:VTIMEZONE
END:VCALENDAR
