BEGIN:VCALENDAR
PRODID:-//eluceo/ical//2.0/EN
VERSION:2.0
CALSCALE:GREGORIAN
BEGIN:VEVENT
UID:88a5a017b271e4b4a17db6bbf2380429
DTSTAMP:20260419T162551Z
SUMMARY:Hands-On - Incontro with Sr. Ariane
DESCRIPTION:Web stranica: https://incontro-verein.ch
URL:https://rczci.ch/bs/agenda/show/211558
DTSTART;TZID=Europe/Zurich:20260422T170000
DTEND;TZID=Europe/Zurich:20260422T211500
LOCATION:Molkenstrasse 8\, 8004 Zürich
CATEGORIES:Rotary
END:VEVENT
BEGIN:VTIMEZONE
TZID:Europe/Zurich
BEGIN:DAYLIGHT
DTSTART:20260422T170000
TZNAME:CEST
TZOFFSETTO:+0200
TZOFFSETFROM:+0200
END:DAYLIGHT
END:VTIMEZONE
END:VCALENDAR
