BEGIN:VCALENDAR
PRODID:-//eluceo/ical//2.0/EN
VERSION:2.0
CALSCALE:GREGORIAN
BEGIN:VEVENT
UID:2ad9792170dd2a8110a0af89aef9063b
DTSTAMP:20260419T150439Z
SUMMARY:RCZCI meets RC München Bavaria day 1
DESCRIPTION:
URL:https://rczci.ch/bs/agenda/show/212003
DTSTART;TZID=Europe/Zurich:20260424T140000
DTEND;TZID=Europe/Zurich:20260424T210000
LOCATION:Rotary International Office Witikonerstrasse 14
CATEGORIES:Rotary
END:VEVENT
BEGIN:VTIMEZONE
TZID:Europe/Zurich
BEGIN:DAYLIGHT
DTSTART:20260424T140000
TZNAME:CEST
TZOFFSETTO:+0200
TZOFFSETFROM:+0200
END:DAYLIGHT
END:VTIMEZONE
END:VCALENDAR
