BEGIN:VCALENDAR
PRODID:-//eluceo/ical//2.0/EN
VERSION:2.0
CALSCALE:GREGORIAN
BEGIN:VEVENT
UID:3444c862b8dd9b5e384c095d7056d508
DTSTAMP:20260421T093751Z
SUMMARY:RCZCI kick-off event
DESCRIPTION:Webseite: http://tobelhof.ch/\nReferenten/innen: It is our priv
 ilege and a great pleasure\, after months of founding-activities\, to fina
 lly invite you to our first event
URL:https://rczci.ch/de/agenda/show/112954
DTSTART;TZID=Europe/Zurich:20200630T181500
DTEND;TZID=Europe/Zurich:20200630T220000
LOCATION:Alter Tobelhof Chäsalp\, Tobelhofstrasse 236\, 8044 Zürich
CATEGORIES:Rotary
END:VEVENT
BEGIN:VTIMEZONE
TZID:Europe/Zurich
BEGIN:DAYLIGHT
DTSTART:20200630T181500
TZNAME:CEST
TZOFFSETTO:+0200
TZOFFSETFROM:+0200
END:DAYLIGHT
END:VTIMEZONE
END:VCALENDAR
