BEGIN:VCALENDAR
PRODID:-//eluceo/ical//2.0/EN
VERSION:2.0
CALSCALE:GREGORIAN
BEGIN:VEVENT
UID:d9b8988dc75c49673f81937faeaff4f2
DTSTAMP:20260421T110452Z
SUMMARY:RCZCI Dinner Meeting
DESCRIPTION:
URL:https://rczci.ch/de/agenda/show/114644
DTSTART;TZID=Europe/Zurich:20200728T000000
DTEND;TZID=Europe/Zurich:20200728T000000
LOCATION:Hotel St. Gotthard Bahnhofstrasse 87\, 8001 Zürich
CATEGORIES:Rotary
END:VEVENT
BEGIN:VTIMEZONE
TZID:Europe/Zurich
BEGIN:DAYLIGHT
DTSTART:20200728T000000
TZNAME:CEST
TZOFFSETTO:+0200
TZOFFSETFROM:+0200
END:DAYLIGHT
END:VTIMEZONE
END:VCALENDAR
