BEGIN:VCALENDAR
PRODID:-//eluceo/ical//2.0/EN
VERSION:2.0
CALSCALE:GREGORIAN
BEGIN:VEVENT
UID:4edf96c93e2e3c2f4f62849c0926b1c5
DTSTAMP:20260424T013506Z
SUMMARY:Dinner - Charity Project Workshop
DESCRIPTION:Webseite: https://www.hyatt.com/en-US/hotel/switzerland/hyatt-r
 egency-zurich-airport-the-circle/zrhrz\nReferenten/innen: Members and exte
 rnal guests 
URL:https://rczci.ch/de/agenda/show/148230
DTSTART;TZID=Europe/Zurich:20230425T183000
DTEND;TZID=Europe/Zurich:20230425T210000
LOCATION:Hyatt Regency Zurich Airport\, The Circle 41-Flughafen\, Hyatt Reg
 ency Zurich Airport\, 8058 Zurich\, Schweiz
CATEGORIES:Rotary
END:VEVENT
BEGIN:VTIMEZONE
TZID:Europe/Zurich
BEGIN:DAYLIGHT
DTSTART:20230425T183000
TZNAME:CEST
TZOFFSETTO:+0200
TZOFFSETFROM:+0200
END:DAYLIGHT
END:VTIMEZONE
END:VCALENDAR
