BEGIN:VCALENDAR
PRODID:-//eluceo/ical//2.0/EN
VERSION:2.0
CALSCALE:GREGORIAN
BEGIN:VEVENT
UID:b5fd4c816c429c49ff4a0adbd933511c
DTSTAMP:20260423T145357Z
SUMMARY:SOMMER-KARUSSELL RC Circle Zürich International\, ab 17.30 Eintref
 fen/Apéro
DESCRIPTION:Referenten/innen: Gemeinsames Sommerprogramm mit den Clubs RC 
 Dielsdorf\, RC Zürich-Glattal\, RC Zürcher Unterland\, RC Zürich Flugha
 fen und RC Zurich Circle International
URL:https://rczci.ch/de/agenda/show/178053
DTSTART;TZID=Europe/Zurich:20240813T173000
DTEND;TZID=Europe/Zurich:20240813T210000
LOCATION:Treffpunkt: Holz-Pavillion im Circle Park (mit der Seilbahn hochfa
 hren)
CATEGORIES:Rotary
END:VEVENT
BEGIN:VTIMEZONE
TZID:Europe/Zurich
BEGIN:DAYLIGHT
DTSTART:20240813T173000
TZNAME:CEST
TZOFFSETTO:+0200
TZOFFSETFROM:+0200
END:DAYLIGHT
END:VTIMEZONE
END:VCALENDAR
