BEGIN:VCALENDAR
PRODID:-//eluceo/ical//2.0/EN
VERSION:2.0
CALSCALE:GREGORIAN
BEGIN:VEVENT
UID:a059cb6ea83cfd981c04d5004ecb7ce1
DTSTAMP:20260423T145509Z
SUMMARY:Lunch with Stefan Bruppbacher\, Director of Swissmem
DESCRIPTION:Referenten/innen: Stefan Brupbacher\, Director of Swissmem 
URL:https://rczci.ch/de/agenda/show/201639
DTSTART;TZID=Europe/Zurich:20260310T113000
DTEND;TZID=Europe/Zurich:20260310T133000
LOCATION:Leon‘s Bodega
CATEGORIES:Rotary
END:VEVENT
BEGIN:VTIMEZONE
TZID:Europe/Zurich
BEGIN:STANDARD
DTSTART:20260310T113000
TZNAME:CET
TZOFFSETTO:+0100
TZOFFSETFROM:+0100
END:STANDARD
END:VTIMEZONE
END:VCALENDAR
