BEGIN:VCALENDAR
PRODID:-//eluceo/ical//2.0/EN
VERSION:2.0
CALSCALE:GREGORIAN
BEGIN:VEVENT
UID:f4410cfde64c7ef98d8ae32a97204443
DTSTAMP:20260420T090130Z
SUMMARY:Mine-Ex - help for mine victims (ab 11.30 Apéro\, 12.00 Start)
DESCRIPTION:Website: http://www.leonsbodega.ch\nSpeaker(s): Ms. Karin Uffer
  Schmid\, Stiftungsrats-Member
URL:https://rczci.ch/en/agenda/show/178224
DTSTART;TZID=Europe/Zurich:20240910T113000
DTEND;TZID=Europe/Zurich:20240910T133000
LOCATION:Leon's Bodega\, The CIrcle Hauptplatz
CATEGORIES:Rotary
END:VEVENT
BEGIN:VTIMEZONE
TZID:Europe/Zurich
BEGIN:DAYLIGHT
DTSTART:20240910T113000
TZNAME:CEST
TZOFFSETTO:+0200
TZOFFSETFROM:+0200
END:DAYLIGHT
END:VTIMEZONE
END:VCALENDAR
