BEGIN:VCALENDAR
PRODID:-//eluceo/ical//2.0/EN
VERSION:2.0
CALSCALE:GREGORIAN
BEGIN:VEVENT
UID:1f88189ae4f6e48b7423f0c4853eb43c
DTSTAMP:20260424T103849Z
SUMMARY:Fireside Chat with Prof. Dr. Bruno Gehrig
DESCRIPTION:Website: https://www.hyatt.com/en-US/hotel/switzerland/hyatt-re
 gency-zurich-airport-the-circle/zrhrz\nSpeaker(s): Prof. Dr. Bruno Gehrig
URL:https://rczci.ch/en/agenda/show/201456
DTSTART;TZID=Europe/Zurich:20251028T183000
DTEND;TZID=Europe/Zurich:20251028T183000
LOCATION:Hyatt Convention Centre\,  Zurich Airport\, The Circle 41-Flughafe
 n\, Hyatt Regency Zurich Airport\, 8058 Zurich\, Schweiz
CATEGORIES:Rotary
END:VEVENT
BEGIN:VTIMEZONE
TZID:Europe/Zurich
BEGIN:STANDARD
DTSTART:20251028T183000
TZNAME:CET
TZOFFSETTO:+0100
TZOFFSETFROM:+0100
END:STANDARD
END:VTIMEZONE
END:VCALENDAR
