BEGIN:VCALENDAR
PRODID:-//eluceo/ical//2.0/EN
VERSION:2.0
CALSCALE:GREGORIAN
BEGIN:VEVENT
UID:30bd9f153cb4f09139451fbbd0422258
DTSTAMP:20260420T120440Z
SUMMARY:RCZCI meets RC München Bavaria day 2
DESCRIPTION:
URL:https://rczci.ch/es/agenda/show/212004
DTSTART;TZID=Europe/Zurich:20260425T100000
DTEND;TZID=Europe/Zurich:20260425T143000
LOCATION:tbd
CATEGORIES:Rotary
END:VEVENT
BEGIN:VTIMEZONE
TZID:Europe/Zurich
BEGIN:DAYLIGHT
DTSTART:20260425T100000
TZNAME:CEST
TZOFFSETTO:+0200
TZOFFSETFROM:+0200
END:DAYLIGHT
END:VTIMEZONE
END:VCALENDAR
