BEGIN:VCALENDAR
PRODID:-//eluceo/ical//2.0/EN
VERSION:2.0
CALSCALE:GREGORIAN
BEGIN:VEVENT
UID:721bf09b96b097be5e65faf8a1d31265
DTSTAMP:20260422T125154Z
SUMMARY:RCZCI Dinner Meeting
DESCRIPTION:General Assembly
URL:https://rczci.ch/fr/agenda/show/117339
DTSTART;TZID=Europe/Zurich:20201124T190000
DTEND;TZID=Europe/Zurich:20201124T210000
LOCATION:Zoom: https://zoom.us/j/95972811270?pwd=aXgwUW9DaHArYTk5UXJKQXMvY0
 pJQT09
CATEGORIES:Rotary
END:VEVENT
BEGIN:VTIMEZONE
TZID:Europe/Zurich
BEGIN:STANDARD
DTSTART:20201124T190000
TZNAME:CET
TZOFFSETTO:+0100
TZOFFSETFROM:+0100
END:STANDARD
END:VTIMEZONE
END:VCALENDAR
