BEGIN:VCALENDAR
PRODID:-//eluceo/ical//2.0/EN
VERSION:2.0
CALSCALE:GREGORIAN
BEGIN:VEVENT
UID:3c36a1a86d16453e07f92ed000d5648e
DTSTAMP:20260424T124326Z
SUMMARY:RCZCI Christmas Celebration
DESCRIPTION:Christmas Party
URL:https://rczci.ch/fr/agenda/show/117341
DTSTART;TZID=Europe/Zurich:20201215T190000
DTEND;TZID=Europe/Zurich:20201215T210000
LOCATION:https://ethz.zoom.us/j/97121605500
CATEGORIES:Rotary
END:VEVENT
BEGIN:VTIMEZONE
TZID:Europe/Zurich
BEGIN:STANDARD
DTSTART:20201215T190000
TZNAME:CET
TZOFFSETTO:+0100
TZOFFSETFROM:+0100
END:STANDARD
END:VTIMEZONE
END:VCALENDAR
