BEGIN:VCALENDAR
PRODID:-//eluceo/ical//2.0/EN
VERSION:2.0
CALSCALE:GREGORIAN
BEGIN:VEVENT
UID:9dd6b40b331eb66eb1fbbcc722068f0d
DTSTAMP:20260424T010834Z
SUMMARY:Regionale Roundtable Jugendaustausch Distrikt 2000 Region E
DESCRIPTION:Relatore/i: Nadja Klaus\, Präsidentin JuKo Distrikt 2000Marco 
 Baur\, Mitglied JuKo Distrikt 2000
URL:https://rotary2000.ch/it/agenda/show/174280
DTSTART;TZID=Europe/Zurich:20240515T180000
DTEND;TZID=Europe/Zurich:20240515T210000
LOCATION:Hunziker AG\, Tischenloostrasse 75\, Thalwil
CATEGORIES:Rotary
END:VEVENT
BEGIN:VTIMEZONE
TZID:Europe/Zurich
BEGIN:DAYLIGHT
DTSTART:20240515T180000
TZNAME:CEST
TZOFFSETTO:+0200
TZOFFSETFROM:+0200
END:DAYLIGHT
END:VTIMEZONE
END:VCALENDAR
