BEGIN:VCALENDAR
PRODID:-//eluceo/ical//2.0/EN
VERSION:2.0
CALSCALE:GREGORIAN
BEGIN:VEVENT
UID:abe1844d68558101e8c9f369f3a78773
DTSTAMP:20260422T124505Z
SUMMARY:Dinner with Dr. Stefan Legge: Switzerland @ the Inflection Point - 
 From Stability to Strategy
DESCRIPTION:
URL:https://rczci.ch/it/agenda/show/211568
DTSTART;TZID=Europe/Zurich:20260526T183000
DTEND;TZID=Europe/Zurich:20260526T213000
LOCATION:Leon's Bodega\, Circle\, Zürich Airport
CATEGORIES:Rotary
END:VEVENT
BEGIN:VTIMEZONE
TZID:Europe/Zurich
BEGIN:DAYLIGHT
DTSTART:20260526T183000
TZNAME:CEST
TZOFFSETTO:+0200
TZOFFSETFROM:+0200
END:DAYLIGHT
END:VTIMEZONE
END:VCALENDAR
