BEGIN:VCALENDAR
PRODID:-//eluceo/ical//2.0/EN
VERSION:2.0
CALSCALE:GREGORIAN
BEGIN:VEVENT
UID:7e792609a9fff7385014d85561be6ac3
DTSTAMP:20260419T133646Z
SUMMARY:Plauderlunch after Summer break (Apero as of 11.30\, 12.00 start of
  event)
DESCRIPTION:
URL:https://rczci.ch/nl/agenda/show/200083
DTSTART;TZID=Europe/Zurich:20250909T113000
DTEND;TZID=Europe/Zurich:20250909T133000
LOCATION:Leon's Loft
CATEGORIES:Rotary
END:VEVENT
BEGIN:VTIMEZONE
TZID:Europe/Zurich
BEGIN:DAYLIGHT
DTSTART:20250909T113000
TZNAME:CEST
TZOFFSETTO:+0200
TZOFFSETFROM:+0200
END:DAYLIGHT
END:VTIMEZONE
END:VCALENDAR
