BEGIN:VCALENDAR
PRODID:-//eluceo/ical//2.0/EN
VERSION:2.0
CALSCALE:GREGORIAN
BEGIN:VEVENT
UID:6fdfe37a739af55df4ac9ae4dab58dab
DTSTAMP:20260422T150528Z
SUMMARY:Zauberpark Christmas Event with Lo & Leduc
DESCRIPTION:
URL:https://rczci.ch/nl/agenda/show/202211
DTSTART;TZID=Europe/Zurich:20251121T180000
DTEND;TZID=Europe/Zurich:20251121T220000
LOCATION:Starts at the ZRH Innovation Hub (Adress: The Circle 46)
CATEGORIES:Rotary
END:VEVENT
BEGIN:VTIMEZONE
TZID:Europe/Zurich
BEGIN:STANDARD
DTSTART:20251121T180000
TZNAME:CET
TZOFFSETTO:+0100
TZOFFSETFROM:+0100
END:STANDARD
END:VTIMEZONE
END:VCALENDAR
