BEGIN:VCALENDAR
PRODID:-//eluceo/ical//2.0/EN
VERSION:2.0
CALSCALE:GREGORIAN
BEGIN:VEVENT
UID:1aa3822eb47d0b338805a1790d16fe9d
DTSTAMP:20260423T093950Z
SUMMARY:RCZCI „Art for Sight“ Exhibition Lucerne
DESCRIPTION:
URL:https://rczci.ch/nl/agenda/show/210151
DTSTART;TZID=Europe/Zurich:20260412T140000
DTEND;TZID=Europe/Zurich:20260412T180000
LOCATION:Art1a.art\, Hofstrasse 1a\, Lucerne
CATEGORIES:Rotary
END:VEVENT
BEGIN:VTIMEZONE
TZID:Europe/Zurich
BEGIN:DAYLIGHT
DTSTART:20260412T140000
TZNAME:CEST
TZOFFSETTO:+0200
TZOFFSETFROM:+0200
END:DAYLIGHT
END:VTIMEZONE
END:VCALENDAR
