BEGIN:VCALENDAR
PRODID:-//eluceo/ical//2.0/EN
VERSION:2.0
CALSCALE:GREGORIAN
BEGIN:VEVENT
UID:e3d25426b3595f37eede2be1cb5c2f67
DTSTAMP:20260423T115744Z
SUMMARY:Hands-On - Incontro With Sr. Ariane
DESCRIPTION:Webbplats: https://incontro-verein.ch/helfen/
URL:https://rczci.ch/sv/agenda/show/202557
DTSTART;TZID=Europe/Zurich:20251203T170000
DTEND;TZID=Europe/Zurich:20251203T213000
LOCATION:Molkenstrasse 8\, 8004 Zurich
CATEGORIES:Rotary
END:VEVENT
BEGIN:VTIMEZONE
TZID:Europe/Zurich
BEGIN:STANDARD
DTSTART:20251203T170000
TZNAME:CET
TZOFFSETTO:+0100
TZOFFSETFROM:+0100
END:STANDARD
END:VTIMEZONE
END:VCALENDAR
