BEGIN:VCALENDAR
PRODID:-//eluceo/ical//2.0/EN
VERSION:2.0
CALSCALE:GREGORIAN
BEGIN:VEVENT
UID:6cb4768e3faf0b8dc3bdcc487c5ccea3
DTSTAMP:20260423T144851Z
SUMMARY:Hands-On - Incontro With Sr. Ariane
DESCRIPTION:Webbplats: https://incontro-verein.ch/helfen/
URL:https://rczci.ch/sv/agenda/show/202563
DTSTART;TZID=Europe/Zurich:20251217T170000
DTEND;TZID=Europe/Zurich:20251217T213000
LOCATION:Molkenstrasse 8\, 8004 Zurich
CATEGORIES:Rotary
END:VEVENT
BEGIN:VTIMEZONE
TZID:Europe/Zurich
BEGIN:STANDARD
DTSTART:20251217T170000
TZNAME:CET
TZOFFSETTO:+0100
TZOFFSETFROM:+0100
END:STANDARD
END:VTIMEZONE
END:VCALENDAR
